BEGIN:VCALENDAR
VERSION:2.0
PRODID:-//Shringara - ECPv6.10.1.1//NONSGML v1.0//EN
CALSCALE:GREGORIAN
METHOD:PUBLISH
X-ORIGINAL-URL:https://shringara.ro
X-WR-CALDESC:Events for Shringara
REFRESH-INTERVAL;VALUE=DURATION:PT1H
X-Robots-Tag:noindex
X-PUBLISHED-TTL:PT1H
BEGIN:VTIMEZONE
TZID:Europe/Helsinki
BEGIN:DAYLIGHT
TZOFFSETFROM:+0200
TZOFFSETTO:+0300
TZNAME:EEST
DTSTART:20250330T010000
END:DAYLIGHT
BEGIN:STANDARD
TZOFFSETFROM:+0300
TZOFFSETTO:+0200
TZNAME:EET
DTSTART:20251026T010000
END:STANDARD
END:VTIMEZONE
BEGIN:VEVENT
DTSTART;TZID=Europe/Helsinki:20250427T120000
DTEND;TZID=Europe/Helsinki:20250427T160000
DTSTAMP:20260423T150006
CREATED:20250411T073856Z
LAST-MODIFIED:20250411T073923Z
UID:342-1745755200-1745769600@shringara.ro
SUMMARY:Ungerea cu Uleiurile Sacre Biblice - 27 Aprilie 2025
DESCRIPTION:Loading…
URL:https://shringara.ro/event/ungerea-cu-uleiurile-sacre-biblice-27-aprilie-2025/
LOCATION:Kama House\, Cluj Napoca\, Romania
END:VEVENT
END:VCALENDAR