BEGIN:VCALENDAR
VERSION:2.0
PRODID:-//Shringara - ECPv6.10.1.1//NONSGML v1.0//EN
CALSCALE:GREGORIAN
METHOD:PUBLISH
X-WR-CALNAME:Shringara
X-ORIGINAL-URL:https://shringara.ro
X-WR-CALDESC:Events for Shringara
REFRESH-INTERVAL;VALUE=DURATION:PT1H
X-Robots-Tag:noindex
X-PUBLISHED-TTL:PT1H
BEGIN:VTIMEZONE
TZID:Europe/Helsinki
BEGIN:DAYLIGHT
TZOFFSETFROM:+0200
TZOFFSETTO:+0300
TZNAME:EEST
DTSTART:20250330T010000
END:DAYLIGHT
BEGIN:STANDARD
TZOFFSETFROM:+0300
TZOFFSETTO:+0200
TZNAME:EET
DTSTART:20251026T010000
END:STANDARD
END:VTIMEZONE
BEGIN:VEVENT
DTSTART;TZID=Europe/Helsinki:20250427T120000
DTEND;TZID=Europe/Helsinki:20250427T160000
DTSTAMP:20260423T020202
CREATED:20250411T073856Z
LAST-MODIFIED:20250411T073923Z
UID:342-1745755200-1745769600@shringara.ro
SUMMARY:Ungerea cu Uleiurile Sacre Biblice - 27 Aprilie 2025
DESCRIPTION:Loading…
URL:https://shringara.ro/event/ungerea-cu-uleiurile-sacre-biblice-27-aprilie-2025/
LOCATION:Kama House\, Cluj Napoca\, Romania
END:VEVENT
BEGIN:VEVENT
DTSTART;TZID=Europe/Helsinki:20250411T193000
DTEND;TZID=Europe/Helsinki:20250411T220000
DTSTAMP:20260423T020202
CREATED:20250324T070606Z
LAST-MODIFIED:20250403T192909Z
UID:328-1744399800-1744408800@shringara.ro
SUMMARY:Conscious Touch Evening - 11 Aprilie 2025
DESCRIPTION:
URL:https://shringara.ro/event/conscious-touch-evening-11-aprilie-2025/
LOCATION:Yoga Hub\, Strada Constanța\, Nr. 7\, Cluj Napoca\, Romania
END:VEVENT
BEGIN:VEVENT
DTSTART;TZID=Europe/Helsinki:20250301T190000
DTEND;TZID=Europe/Helsinki:20250301T210000
DTSTAMP:20260423T020202
CREATED:20250224T214020Z
LAST-MODIFIED:20250224T215610Z
UID:309-1740855600-1740862800@shringara.ro
SUMMARY:Conscious Touch Evening - 1 Martie 2025
DESCRIPTION:Loading…
URL:https://shringara.ro/event/conscious-touch-evening-1_03_2025/
LOCATION:Kama House\, Cluj Napoca\, Romania
END:VEVENT
END:VCALENDAR